BEGIN:VCALENDAR
VERSION:2.0
PRODID:-//ZContent.net//ZapCalLib 1.0//EN
CALSCALE:GREGORIAN
METHOD:PUBLISH
BEGIN:VEVENT
SUMMARY:Mein 68 - Dein 68 | Persönlicher Austausch zu einer historischen Z
 eit
DTSTART:20181130T180000
DTEND:20181130T210000
UID:2026-04-25-02-12-31-0-@calendar.boell.de
DTSTAMP:20260425T001231
DESCRIPTION:▶ Siehe Veranstaltungsbeschreibung – Hannover – Stiftung 
 Leben & Umwelt / Heinrich-Böll-Stiftung Niedersachsen
END:VEVENT
END:VCALENDAR
