BEGIN:VCALENDAR
VERSION:2.0
PRODID:-//ZContent.net//ZapCalLib 1.0//EN
CALSCALE:GREGORIAN
METHOD:PUBLISH
BEGIN:VEVENT
SUMMARY:Der Schoß ist fruchtbar noch | 80 Jahre Nationalsozialistische Pog
 romnacht
DTSTART:20181110T183000
DTEND:20181110T210000
UID:2026-04-24-13-42-04-0-@calendar.boell.de
DTSTAMP:20260424T114204
DESCRIPTION:▶ Siehe Veranstaltungsbeschreibung – Görlitz – Landessti
 ftung Sachsen (Weiterdenken)
END:VEVENT
END:VCALENDAR
