BEGIN:VCALENDAR
VERSION:2.0
PRODID:-//ZContent.net//ZapCalLib 1.0//EN
CALSCALE:GREGORIAN
METHOD:PUBLISH
BEGIN:VEVENT
SUMMARY:Berliner HerbstgesprÃ¤che 2018 | Gerechtigkeit und Recht in Post-Ko
 nflikt-Gesellschaften? - EuropÃ¤ische Erfahrungen und Perspektiven
DTSTART:20181114T143000
DTEND:20181114T223000
UID:2026-04-25-03-30-36-0-@calendar.boell.de
DTSTAMP:20260425T013036
DESCRIPTION:â–¶ Siehe Veranstaltungsbeschreibung â€“ Berlin â€“ Heinrich-BÃ
 ¶ll-Stiftung - Bundesstiftung Berlin
END:VEVENT
END:VCALENDAR
