BEGIN:VCALENDAR
VERSION:2.0
PRODID:-//ZContent.net//ZapCalLib 1.0//EN
CALSCALE:GREGORIAN
METHOD:PUBLISH
BEGIN:VEVENT
SUMMARY:Digitalisierung und sozial-ökologische Transformation | Teil 3 der
  Veranstaltungsreihe "Technopolitics - Globale Gerechtigkeit im Zeitalter 
 des Digitalen" der W3 - Werkstatt für internationale Kultur und Politik
DTSTART:20181112T200000
DTEND:20181112T220000
UID:2026-04-25-02-37-22-0-@calendar.boell.de
DTSTAMP:20260425T003722
DESCRIPTION:▶ Siehe Veranstaltungsbeschreibung – Hamburg – Landesstif
 tung Hamburg
END:VEVENT
END:VCALENDAR
