BEGIN:VCALENDAR
VERSION:2.0
PRODID:-//ZContent.net//ZapCalLib 1.0//EN
CALSCALE:GREGORIAN
METHOD:PUBLISH
BEGIN:VEVENT
SUMMARY:Serbien als europÃ¤ische Avantgarde? | Was der Populismus der 1980e
 r Jahre mit dem europÃ¤ischen von heute zu tun hat
DTSTART:20181101T180000
DTEND:20181101T200000
UID:2026-04-25-05-01-00-0-@calendar.boell.de
DTSTAMP:20260425T030100
DESCRIPTION:â–¶ Siehe Veranstaltungsbeschreibung â€“ Berlin â€“ Heinrich-BÃ
 ¶ll-Stiftung - Bundesstiftung Berlin
END:VEVENT
END:VCALENDAR
