BEGIN:VCALENDAR
VERSION:2.0
PRODID:-//ZContent.net//ZapCalLib 1.0//EN
CALSCALE:GREGORIAN
METHOD:PUBLISH
BEGIN:VEVENT
SUMMARY:Über das Nein hinaus/Der Anfang von Etwas | Veranstaltungsprogramm
  zur künstlerischen Forschung im Archiv der DDR-Opposition
DTSTART:20181216T160000
DTEND:20181216T220000
UID:2026-04-24-21-48-21-0-@calendar.boell.de
DTSTAMP:20260424T194821
DESCRIPTION:Berlin – Heinrich-Böll-Stiftung - Bundesstiftung Berlin
END:VEVENT
END:VCALENDAR
