BEGIN:VCALENDAR
VERSION:2.0
PRODID:-//ZContent.net//ZapCalLib 1.0//EN
CALSCALE:GREGORIAN
METHOD:PUBLISH
BEGIN:VEVENT
SUMMARY:Meeresatlas - Der Mensch und das Meer | GesprÃ¤ch, Film und Konzert
DTSTART:20181017T200000
DTEND:20181017T220000
UID:2026-04-25-23-41-40-0-@calendar.boell.de
DTSTAMP:20260425T214140
DESCRIPTION:â–¶ Siehe Veranstaltungsbeschreibung â€“ Berlin â€“ Heinrich-BÃ
 ¶ll-Stiftung - Bundesstiftung Berlin
END:VEVENT
END:VCALENDAR
