BEGIN:VCALENDAR
VERSION:2.0
PRODID:-//ZContent.net//ZapCalLib 1.0//EN
CALSCALE:GREGORIAN
METHOD:PUBLISH
BEGIN:VEVENT
SUMMARY:Gras wachsen lassen! | Miscanthus zu Strom  - eine Möglichkeit fü
 r die Energieregion Lausitz und ein Beitrag zum Gelingen der Wende in der 
 Energieversorgung
DTSTART:20181025T190000
DTEND:20181025T190000
UID:2026-04-24-08-45-44-0-@calendar.boell.de
DTSTAMP:20260424T064544
DESCRIPTION:▶ Siehe Veranstaltungsbeschreibung – Zittau – Landesstift
 ung Sachsen (Weiterdenken)
END:VEVENT
END:VCALENDAR
