BEGIN:VCALENDAR
VERSION:2.0
PRODID:-//ZContent.net//ZapCalLib 1.0//EN
CALSCALE:GREGORIAN
METHOD:PUBLISH
BEGIN:VEVENT
SUMMARY:Weiblich, vernetzt, selbstständig | ... und das auf dem Land!
DTSTART:20181022T190000
DTEND:20181022T210000
UID:2026-04-25-23-41-42-0-@calendar.boell.de
DTSTAMP:20260425T214142
DESCRIPTION:▶ Siehe Veranstaltungsbeschreibung – Landesstiftung Schlesw
 ig-Holstein
END:VEVENT
END:VCALENDAR
