BEGIN:VCALENDAR
VERSION:2.0
PRODID:-//ZContent.net//ZapCalLib 1.0//EN
CALSCALE:GREGORIAN
METHOD:PUBLISH
BEGIN:VEVENT
SUMMARY:Brasilien - Demokratie in Gefahr!
DTSTART:20181105T190000
DTEND:20181105T203000
UID:2026-04-24-11-48-57-0-@calendar.boell.de
DTSTAMP:20260424T094857
DESCRIPTION:▶ Siehe Veranstaltungsbeschreibung – Berlin – Externe Ver
 anstaltung
END:VEVENT
END:VCALENDAR
