BEGIN:VCALENDAR
VERSION:2.0
PRODID:-//ZContent.net//ZapCalLib 1.0//EN
CALSCALE:GREGORIAN
METHOD:PUBLISH
BEGIN:VEVENT
SUMMARY:Die Einsamkeit Israels  | Über die Existenzbedingungen des jüdisc
 hen Staates und die iranische Bedrohung
DTSTART:20181113T183000
DTEND:20181113T210000
UID:2026-04-24-22-19-03-0-@calendar.boell.de
DTSTAMP:20260424T201903
DESCRIPTION:Heinrich-Böll-Stiftung Thüringen – Sondershausen – Landes
 stiftung Thüringen
END:VEVENT
END:VCALENDAR
