BEGIN:VCALENDAR
VERSION:2.0
PRODID:-//ZContent.net//ZapCalLib 1.0//EN
CALSCALE:GREGORIAN
METHOD:PUBLISH
BEGIN:VEVENT
SUMMARY:Abschiebung in ein umkämpftes Land | Die politische Zukunft Afghan
 istans und die deutsche Asyl- und Abschiebepolitik 
DTSTART:20181105T113000
DTEND:20181105T190000
UID:2026-04-25-03-31-07-0-@calendar.boell.de
DTSTAMP:20260425T013107
DESCRIPTION:Heinrich-Böll-Stiftung - Bundesstiftung Berlin – Berlin – 
 Heinrich-Böll-Stiftung - Bundesstiftung Berlin
END:VEVENT
END:VCALENDAR
