BEGIN:VCALENDAR
VERSION:2.0
PRODID:-//ZContent.net//ZapCalLib 1.0//EN
CALSCALE:GREGORIAN
METHOD:PUBLISH
BEGIN:VEVENT
SUMMARY: Was zu tun ist - Und was wir tun werden.  | Im Rahmen der Reihe "W
 as zu tun ist"
DTSTART:20190206T190000
DTEND:20190206T190000
UID:2026-04-25-04-08-20-0-@calendar.boell.de
DTSTAMP:20260425T020820
DESCRIPTION:▶ Siehe Veranstaltungsbeschreibung – Dresden – Landesstif
 tung Sachsen (Weiterdenken)
END:VEVENT
END:VCALENDAR
