BEGIN:VCALENDAR
VERSION:2.0
PRODID:-//ZContent.net//ZapCalLib 1.0//EN
CALSCALE:GREGORIAN
METHOD:PUBLISH
BEGIN:VEVENT
SUMMARY:Was zu tun ist - Für Bürger_innenrechte im digitalen Zeitalter  |
  Im Rahmen der Reihe "Was zu tun ist"
DTSTART:20190123T190000
DTEND:20190123T190000
UID:2026-04-24-23-50-49-0-@calendar.boell.de
DTSTAMP:20260424T215049
DESCRIPTION:▶ Siehe Veranstaltungsbeschreibung – Dresden – Landesstif
 tung Sachsen (Weiterdenken)
END:VEVENT
END:VCALENDAR
