BEGIN:VCALENDAR
VERSION:2.0
PRODID:-//ZContent.net//ZapCalLib 1.0//EN
CALSCALE:GREGORIAN
METHOD:PUBLISH
BEGIN:VEVENT
SUMMARY:GreenCampus Workshop Spezial: Gender-Kompetenz in der beruflichen P
 raxis (ausgebucht)
DTSTART:20190218T100000
DTEND:20190219T180000
UID:2026-04-24-13-56-48-0-@calendar.boell.de
DTSTAMP:20260424T115648
DESCRIPTION:Heinrich-Böll-Stiftung - Bundesstiftung Berlin – Berlin – 
 GreenCampus
END:VEVENT
END:VCALENDAR
