BEGIN:VCALENDAR
VERSION:2.0
PRODID:-//ZContent.net//ZapCalLib 1.0//EN
CALSCALE:GREGORIAN
METHOD:PUBLISH
BEGIN:VEVENT
SUMMARY:AG Nachhaltig & Ökologisch | Nachhaltig & Ökologisch
DTSTART:20181020T110000
DTEND:20181020T153000
UID:2026-04-25-01-03-02-0-@calendar.boell.de
DTSTAMP:20260424T230302
DESCRIPTION:Düsseldorf – 
END:VEVENT
END:VCALENDAR
