BEGIN:VCALENDAR
VERSION:2.0
PRODID:-//ZContent.net//ZapCalLib 1.0//EN
CALSCALE:GREGORIAN
METHOD:PUBLISH
BEGIN:VEVENT
SUMMARY:Kinderbücher zwischen Einfalt und Vielfalt | Über die Macht von W
 orten und Bildern
DTSTART:20181128T190000
DTEND:20181128T210000
UID:2026-04-25-04-17-45-0-@calendar.boell.de
DTSTAMP:20260425T021745
DESCRIPTION:▶ Siehe Veranstaltungsbeschreibung – Dresden – Landesstif
 tung Sachsen (Weiterdenken)
END:VEVENT
END:VCALENDAR
