BEGIN:VCALENDAR
VERSION:2.0
PRODID:-//ZContent.net//ZapCalLib 1.0//EN
CALSCALE:GREGORIAN
METHOD:PUBLISH
BEGIN:VEVENT
SUMMARY:Politik der Zukunftsfähigkeit | Eberswalder Nachhaltigkeitsgesells
 chaft mit Prof. Dr. Reinhard Loske
DTSTART:20181016T190000
DTEND:20181016T210000
UID:2026-04-25-23-42-13-0-@calendar.boell.de
DTSTAMP:20260425T214213
DESCRIPTION:▶ Siehe Veranstaltungsbeschreibung – Eberswalde – Landess
 tiftung Brandenburg
END:VEVENT
END:VCALENDAR
