BEGIN:VCALENDAR
VERSION:2.0
PRODID:-//ZContent.net//ZapCalLib 1.0//EN
CALSCALE:GREGORIAN
METHOD:PUBLISH
BEGIN:VEVENT
SUMMARY:Ich bin kein Etikett! | Ausstellung im Treibhaus Döbeln
DTSTART:20180927T183000
DTEND:20180927T183000
UID:2026-04-24-15-02-06-0-@calendar.boell.de
DTSTAMP:20260424T130206
DESCRIPTION:▶ Siehe Veranstaltungsbeschreibung – Döbeln – Landesstif
 tung Sachsen (Weiterdenken)
END:VEVENT
BEGIN:VEVENT
SUMMARY:Ich bin kein Etikett! | Ausstellung im Treibhaus Döbeln
DTSTART:20180928T190000
DTEND:20181007T210000
UID:2026-04-24-13-02-06-1-@calendar.boell.de
DTSTAMP:20260424T130206
DESCRIPTION:▶ Siehe Veranstaltungsbeschreibung – Döbeln – Landesstif
 tung Sachsen (Weiterdenken)
END:VEVENT
END:VCALENDAR
