BEGIN:VCALENDAR
VERSION:2.0
PRODID:-//ZContent.net//ZapCalLib 1.0//EN
CALSCALE:GREGORIAN
METHOD:PUBLISH
BEGIN:VEVENT
SUMMARY:Gelebte Realität am Gaza-Streifen. Kompromisse - trotz allem? | Re
 ihe: Von "Pulverfässern" und "Glaubenskriegen" - Berichterstattung zu Wes
 tasien und Nordafrika
DTSTART:20181119T190000
DTEND:20181119T213000
UID:2026-04-25-14-06-00-0-@calendar.boell.de
DTSTAMP:20260425T120600
DESCRIPTION:Berlin – Landesstiftung Berlin (Bildungswerk)
END:VEVENT
END:VCALENDAR
