BEGIN:VCALENDAR
VERSION:2.0
PRODID:-//ZContent.net//ZapCalLib 1.0//EN
CALSCALE:GREGORIAN
METHOD:PUBLISH
BEGIN:VEVENT
SUMMARY:Gegenargument online - Hate Speech widersprechen  | Online-Seminar
DTSTART:20181016T160000
DTEND:20181016T180000
UID:2026-04-25-23-42-16-0-@calendar.boell.de
DTSTAMP:20260425T214216
DESCRIPTION:Landesstiftung Hamburg
END:VEVENT
END:VCALENDAR
