BEGIN:VCALENDAR
VERSION:2.0
PRODID:-//ZContent.net//ZapCalLib 1.0//EN
CALSCALE:GREGORIAN
METHOD:PUBLISH
BEGIN:VEVENT
SUMMARY:Die Normalisierung von außergerichtlichen Hinrichtungen auf den Ph
 ilippinen | Bericht eines Fotojournalisten über Dutertes "Drogenkrieg"
DTSTART:20181031T190000
DTEND:20181031T213000
UID:2026-04-25-03-31-08-0-@calendar.boell.de
DTSTAMP:20260425T013108
DESCRIPTION:Berlin – Landesstiftung Berlin (Bildungswerk)
END:VEVENT
END:VCALENDAR
