BEGIN:VCALENDAR
VERSION:2.0
PRODID:-//ZContent.net//ZapCalLib 1.0//EN
CALSCALE:GREGORIAN
METHOD:PUBLISH
BEGIN:VEVENT
SUMMARY:Inmitten von Krieg, Konflikt und Flucht | Beratung und Empowerment 
 von Frauen in Gewaltsituationen
DTSTART:20181016T170000
DTEND:20181016T193000
UID:2026-04-26-06-14-57-0-@calendar.boell.de
DTSTAMP:20260426T041457
DESCRIPTION:Berlin – 
END:VEVENT
END:VCALENDAR
