BEGIN:VCALENDAR
VERSION:2.0
PRODID:-//ZContent.net//ZapCalLib 1.0//EN
CALSCALE:GREGORIAN
METHOD:PUBLISH
BEGIN:VEVENT
SUMMARY:Jahresversammlung der Freundinnen und Freunde 2018
DTSTART:20181012T150000
DTEND:20181012T200000
UID:2026-04-26-04-41-14-0-@calendar.boell.de
DTSTAMP:20260426T024114
DESCRIPTION:Heinrich-Böll-Stiftung - Bundesstiftung Berlin – Berlin – 
 Heinrich-Böll-Stiftung - Bundesstiftung Berlin
END:VEVENT
END:VCALENDAR
