BEGIN:VCALENDAR
VERSION:2.0
PRODID:-//ZContent.net//ZapCalLib 1.0//EN
CALSCALE:GREGORIAN
METHOD:PUBLISH
BEGIN:VEVENT
SUMMARY:Gemeinschaftsgärten - Krisengärten? | Wilma, Ernst-Thälmannstr. 
 67, Weimar
DTSTART:20150304T190000
DTEND:20150304T190000
UID:2026-04-23-04-48-54-0-@calendar.boell.de
DTSTAMP:20260423T024854
DESCRIPTION:Landesstiftung Thüringen
END:VEVENT
END:VCALENDAR
