BEGIN:VCALENDAR
VERSION:2.0
PRODID:-//ZContent.net//ZapCalLib 1.0//EN
CALSCALE:GREGORIAN
METHOD:PUBLISH
BEGIN:VEVENT
SUMMARY:Berlin: Frieden braucht Frauen | Sicherheitspolitik braucht die Ges
 chlechterperspektive
DTSTART:20040504T180000
DTEND:20040504T210000
UID:2026-04-23-06-57-44-0-@calendar.boell.de
DTSTAMP:20260423T045744
DESCRIPTION:Heinrich-Böll-Stiftung - Bundesstiftung Berlin
END:VEVENT
END:VCALENDAR
