BEGIN:VCALENDAR
VERSION:2.0
PRODID:-//ZContent.net//ZapCalLib 1.0//EN
CALSCALE:GREGORIAN
METHOD:PUBLISH
BEGIN:VEVENT
SUMMARY:Berlin: Dominanz des Nordens? | Akteure und Praxisfelder internatio
 naler Zivilgesellschaft
DTSTART:20040702T140000
DTEND:20040703T183000
UID:2026-04-23-10-08-52-0-@calendar.boell.de
DTSTAMP:20260423T080852
DESCRIPTION:Heinrich-Böll-Stiftung - Bundesstiftung Berlin
END:VEVENT
END:VCALENDAR
