BEGIN:VCALENDAR
VERSION:2.0
PRODID:-//ZContent.net//ZapCalLib 1.0//EN
CALSCALE:GREGORIAN
METHOD:PUBLISH
BEGIN:VEVENT
SUMMARY:Erstes Europäisches Vernetzungstreffen des Frauensicherheitsrates 
 zur Resolution 1325 | Tagung
DTSTART:20050911T100000
DTEND:20050911T170000
UID:2026-04-26-06-15-00-0-@calendar.boell.de
DTSTAMP:20260426T041500
DESCRIPTION:
END:VEVENT
END:VCALENDAR
