BEGIN:VCALENDAR
VERSION:2.0
PRODID:-//ZContent.net//ZapCalLib 1.0//EN
CALSCALE:GREGORIAN
METHOD:PUBLISH
BEGIN:VEVENT
SUMMARY:Praktika Praktisch - Qualifizierung für PraktikageberInnen
DTSTART:20070202T103000
DTEND:20070202T150000
UID:2026-04-23-04-48-52-0-@calendar.boell.de
DTSTAMP:20260423T024852
DESCRIPTION:Landesstiftung Nordrhein-Westfalen
END:VEVENT
END:VCALENDAR
