BEGIN:VCALENDAR
VERSION:2.0
PRODID:-//ZContent.net//ZapCalLib 1.0//EN
CALSCALE:GREGORIAN
METHOD:PUBLISH
BEGIN:VEVENT
SUMMARY:LOBBYING: INTERESSEN ERFOLGREICH VERTRETEN | BESTELLSEMINAR
DTSTART:20070101T100000
DTEND:20070101T170000
UID:2026-04-25-23-41-20-0-@calendar.boell.de
DTSTAMP:20260425T214120
DESCRIPTION:
END:VEVENT
END:VCALENDAR
