BEGIN:VCALENDAR
VERSION:2.0
PRODID:-//ZContent.net//ZapCalLib 1.0//EN
CALSCALE:GREGORIAN
METHOD:PUBLISH
BEGIN:VEVENT
SUMMARY:INDIVIDUELLE COACHINGS … MIT MICHAEL WEDELL | BESTELLSEMINAR
DTSTART:20070101T100000
DTEND:20070101T183000
UID:2026-04-26-04-41-01-0-@calendar.boell.de
DTSTAMP:20260426T024101
DESCRIPTION:
END:VEVENT
END:VCALENDAR
