BEGIN:VCALENDAR
VERSION:2.0
PRODID:-//ZContent.net//ZapCalLib 1.0//EN
CALSCALE:GREGORIAN
METHOD:PUBLISH
BEGIN:VEVENT
SUMMARY:Die wirkungsvolle Rede | Überzeugend argumentieren (Zertifikat)
DTSTART:20090327T180000
DTEND:20090328T170000
UID:2026-04-26-06-14-56-0-@calendar.boell.de
DTSTAMP:20260426T041456
DESCRIPTION:Landesstiftung Nordrhein-Westfalen
END:VEVENT
END:VCALENDAR
