BEGIN:VCALENDAR
VERSION:2.0
PRODID:-//ZContent.net//ZapCalLib 1.0//EN
CALSCALE:GREGORIAN
METHOD:PUBLISH
BEGIN:VEVENT
SUMMARY:Kommunikationstraining: Sitzungen und Diskussionen effektiv leiten 
 und schwierige Sitzungen konstruktiv führen
DTSTART:20070615T100000
DTEND:20070616T180000
UID:2026-04-24-13-57-21-0-@calendar.boell.de
DTSTAMP:20260424T115721
DESCRIPTION:Landesstiftung Hamburg
END:VEVENT
END:VCALENDAR
