BEGIN:VCALENDAR
VERSION:2.0
PRODID:-//ZContent.net//ZapCalLib 1.0//EN
CALSCALE:GREGORIAN
METHOD:PUBLISH
BEGIN:VEVENT
SUMMARY:Medientraining: Erfolgreiche Presse- und Öffentlichkeitsarbeit
DTSTART:20070309T100000
DTEND:20070309T180000
UID:2026-04-25-05-01-12-0-@calendar.boell.de
DTSTAMP:20260425T030112
DESCRIPTION:Landesstiftung Thüringen
END:VEVENT
END:VCALENDAR
