BEGIN:VCALENDAR
VERSION:2.0
PRODID:-//ZContent.net//ZapCalLib 1.0//EN
CALSCALE:GREGORIAN
METHOD:PUBLISH
BEGIN:VEVENT
SUMMARY:Medientraining: Erfolgreiche Presse- und Öffentlichkeitsarbeit
DTSTART:20070622T180000
DTEND:20070624T180000
UID:2026-04-23-20-25-58-0-@calendar.boell.de
DTSTAMP:20260423T182558
DESCRIPTION:Landesstiftung Berlin (Bildungswerk)
END:VEVENT
END:VCALENDAR
