BEGIN:VCALENDAR
VERSION:2.0
PRODID:-//ZContent.net//ZapCalLib 1.0//EN
CALSCALE:GREGORIAN
METHOD:PUBLISH
BEGIN:VEVENT
SUMMARY:Medientraining: Texttraining I | Die ansprechende Botschaft
DTSTART:20070310T100000
DTEND:20070310T180000
UID:2026-04-25-02-12-26-0-@calendar.boell.de
DTSTAMP:20260425T001226
DESCRIPTION:Landesstiftung Thüringen
END:VEVENT
END:VCALENDAR
