BEGIN:VCALENDAR
VERSION:2.0
PRODID:-//ZContent.net//ZapCalLib 1.0//EN
CALSCALE:GREGORIAN
METHOD:PUBLISH
BEGIN:VEVENT
SUMMARY:Die ansprechende Botschaft | Schreiben (fast) wie ein Profi (Zertif
 ikat)
DTSTART:20090205T103000
DTEND:20090206T140000
UID:2026-04-24-01-39-08-0-@calendar.boell.de
DTSTAMP:20260423T233908
DESCRIPTION:Landesstiftung Nordrhein-Westfalen
END:VEVENT
END:VCALENDAR
