BEGIN:VCALENDAR
VERSION:2.0
PRODID:-//ZContent.net//ZapCalLib 1.0//EN
CALSCALE:GREGORIAN
METHOD:PUBLISH
BEGIN:VEVENT
SUMMARY:Rhetorik und Moderation:  Ich bin so frei | Einführung in die Kuns
 t der freien Rede
DTSTART:20070114T100000
DTEND:20070114T180000
UID:2026-04-25-23-41-33-0-@calendar.boell.de
DTSTAMP:20260425T214133
DESCRIPTION:
END:VEVENT
END:VCALENDAR
