BEGIN:VCALENDAR
VERSION:2.0
PRODID:-//ZContent.net//ZapCalLib 1.0//EN
CALSCALE:GREGORIAN
METHOD:PUBLISH
BEGIN:VEVENT
SUMMARY:Integrierte Haupt- und Realschule – eine mögliche Alternative zu
 r Dreigliedrigkeit?!  | Veranstaltung der Rosa-Luxemburg-Stiftung
DTSTART:20070228T160000
DTEND:20070228T180000
UID:2026-04-25-19-56-58-0-@calendar.boell.de
DTSTAMP:20260425T175658
DESCRIPTION:
END:VEVENT
END:VCALENDAR
