BEGIN:VCALENDAR
VERSION:2.0
PRODID:-//ZContent.net//ZapCalLib 1.0//EN
CALSCALE:GREGORIAN
METHOD:PUBLISH
BEGIN:VEVENT
SUMMARY:Geschlechtergerechtigkeit und Haushaltspolitik: Gender Budgeting | 
 Veranstaltung der Rosa-Luxemburg-Stiftung
DTSTART:20070302T110000
DTEND:20070302T163000
UID:2026-04-25-12-36-02-0-@calendar.boell.de
DTSTAMP:20260425T103602
DESCRIPTION:
END:VEVENT
END:VCALENDAR
