BEGIN:VCALENDAR
VERSION:2.0
PRODID:-//ZContent.net//ZapCalLib 1.0//EN
CALSCALE:GREGORIAN
METHOD:PUBLISH
BEGIN:VEVENT
SUMMARY:Widerstand, Flucht und Vertreibung in/aus Schlesien | Veranstaltung
  der Rosa-Luxemburg-Stiftung
DTSTART:20070308T180000
DTEND:20070308T200000
UID:2026-04-25-23-40-54-0-@calendar.boell.de
DTSTAMP:20260425T214054
DESCRIPTION:
END:VEVENT
END:VCALENDAR
