BEGIN:VCALENDAR
VERSION:2.0
PRODID:-//ZContent.net//ZapCalLib 1.0//EN
CALSCALE:GREGORIAN
METHOD:PUBLISH
BEGIN:VEVENT
SUMMARY:Die Vielfalt der außerunterrichtlichen Betätigungsmöglichkeiten 
 und Freizeitangebote für Schulkinder zu DDR-Zeiten | Veranstaltung der Ro
 sa-Luxemburg-Stiftung
DTSTART:20070328T160000
DTEND:20070328T180000
UID:2026-04-26-06-14-58-0-@calendar.boell.de
DTSTAMP:20260426T041458
DESCRIPTION:
END:VEVENT
END:VCALENDAR
