BEGIN:VCALENDAR
VERSION:2.0
PRODID:-//ZContent.net//ZapCalLib 1.0//EN
CALSCALE:GREGORIAN
METHOD:PUBLISH
BEGIN:VEVENT
SUMMARY:DFB-Pokalfinale Frauen/Männer
DTSTART:20070526T160000
DTEND:20070526T220000
UID:2026-04-24-15-00-42-0-@calendar.boell.de
DTSTAMP:20260424T130042
DESCRIPTION:Externe Veranstaltung
END:VEVENT
END:VCALENDAR
