BEGIN:VCALENDAR
VERSION:2.0
PRODID:-//ZContent.net//ZapCalLib 1.0//EN
CALSCALE:GREGORIAN
METHOD:PUBLISH
BEGIN:VEVENT
SUMMARY:Conference: Women of the Mountains, Utah (USA)
DTSTART:20070307T000000
DTEND:20070310T000000
UID:2026-04-25-13-26-43-0-@calendar.boell.de
DTSTAMP:20260425T112643
DESCRIPTION:Externe Veranstaltung
END:VEVENT
END:VCALENDAR
