BEGIN:VCALENDAR
VERSION:2.0
PRODID:-//ZContent.net//ZapCalLib 1.0//EN
CALSCALE:GREGORIAN
METHOD:PUBLISH
BEGIN:VEVENT
SUMMARY:Banlieue Europa? Jugendunruhen - Stadt - Migration | Konferenz an d
 er HU Berlin
DTSTART:20070126T183000
DTEND:20070127T163000
UID:2026-04-24-21-47-55-0-@calendar.boell.de
DTSTAMP:20260424T194755
DESCRIPTION:Heinrich-Böll-Stiftung - Bundesstiftung Berlin
END:VEVENT
END:VCALENDAR
