BEGIN:VCALENDAR
VERSION:2.0
PRODID:-//ZContent.net//ZapCalLib 1.0//EN
CALSCALE:GREGORIAN
METHOD:PUBLISH
BEGIN:VEVENT
SUMMARY:Urania-Reihe #8: Was bedeutet Bildung in Deutschland heute? | Wisse
 nsgesellschaft – Mythos oder Zukunftsgestaltungsprogramm?
DTSTART:20070126T193000
DTEND:20070126T213000
UID:2026-04-25-12-28-51-0-@calendar.boell.de
DTSTAMP:20260425T102851
DESCRIPTION:
END:VEVENT
END:VCALENDAR
