BEGIN:VCALENDAR
VERSION:2.0
PRODID:-//ZContent.net//ZapCalLib 1.0//EN
CALSCALE:GREGORIAN
METHOD:PUBLISH
BEGIN:VEVENT
SUMMARY:Nachhalten #23: Gespräche zu Globalisierung und Nachhaltigkeit | F
 airer Handel: Privatsache oder öffentliche Verantwortung?
DTSTART:20070129T193000
DTEND:20070129T210000
UID:2026-04-24-06-41-50-0-@calendar.boell.de
DTSTAMP:20260424T044150
DESCRIPTION:Heinrich-Böll-Stiftung - Bundesstiftung Berlin
END:VEVENT
END:VCALENDAR
