BEGIN:VCALENDAR
VERSION:2.0
PRODID:-//ZContent.net//ZapCalLib 1.0//EN
CALSCALE:GREGORIAN
METHOD:PUBLISH
BEGIN:VEVENT
SUMMARY:Fällt aus!!!  Macht und Ohnmacht des Wirtschaftsraums Europa | Dis
 kussionsreihe EU Neu denken 1 - 4
DTSTART:20070307T193000
DTEND:20070307T213000
UID:2026-04-24-07-56-04-0-@calendar.boell.de
DTSTAMP:20260424T055604
DESCRIPTION:Heinrich-Böll-Stiftung - Bundesstiftung Berlin
END:VEVENT
END:VCALENDAR
