BEGIN:VCALENDAR
VERSION:2.0
PRODID:-//ZContent.net//ZapCalLib 1.0//EN
CALSCALE:GREGORIAN
METHOD:PUBLISH
BEGIN:VEVENT
SUMMARY:Haben und Nichthaben. Das Great Game des 21. Jahrhunderts um Afrika
 s Rohstoffe  | Key Note Speech, Diskussion, Empfang
DTSTART:20070326T180000
DTEND:20070326T210000
UID:2026-04-24-01-58-21-0-@calendar.boell.de
DTSTAMP:20260423T235821
DESCRIPTION:Heinrich-Böll-Stiftung - Bundesstiftung Berlin
END:VEVENT
END:VCALENDAR
