BEGIN:VCALENDAR
VERSION:2.0
PRODID:-//ZContent.net//ZapCalLib 1.0//EN
CALSCALE:GREGORIAN
METHOD:PUBLISH
BEGIN:VEVENT
SUMMARY:Jubiläumskongress: 10. FrauenVernetzungsWerkstatt, Schweiz | an de
 r Universität St. Gallen
DTSTART:20070324T000000
DTEND:20070324T000000
UID:2026-04-25-03-29-52-0-@calendar.boell.de
DTSTAMP:20260425T012952
DESCRIPTION:Externe Veranstaltung
END:VEVENT
END:VCALENDAR
